BEGIN:VCALENDAR
VERSION:2.0
PRODID:-//BVPA - Bundesverband professioneller Bildanbieter - ECPv6.1.3//NONSGML v1.0//EN
CALSCALE:GREGORIAN
METHOD:PUBLISH
X-ORIGINAL-URL:https://bvpa.org
X-WR-CALDESC:Veranstaltungen für BVPA - Bundesverband professioneller Bildanbieter
REFRESH-INTERVAL;VALUE=DURATION:PT1H
X-Robots-Tag:noindex
X-PUBLISHED-TTL:PT1H
BEGIN:VTIMEZONE
TZID:Europe/Helsinki
BEGIN:DAYLIGHT
TZOFFSETFROM:+0200
TZOFFSETTO:+0300
TZNAME:EEST
DTSTART:20230326T010000
END:DAYLIGHT
BEGIN:STANDARD
TZOFFSETFROM:+0300
TZOFFSETTO:+0200
TZNAME:EET
DTSTART:20231029T010000
END:STANDARD
END:VTIMEZONE
BEGIN:VEVENT
DTSTART;VALUE=DATE:20230318
DTEND;VALUE=DATE:20230612
DTSTAMP:20260424T135218
CREATED:20230103T094902Z
LAST-MODIFIED:20230103T094930Z
UID:69667-1679097600-1686527999@bvpa.org
SUMMARY:RAW 2023 Photofestival Worpswede
DESCRIPTION:Turning Point. Turning World. Die vierte Auflage der RAW Photo Triennale Worpswede zeigt vom 18. März bis zum 11. Juni 2023 junge und internationale Perspektiven auf unsere Welt im Wandel. \nIn den vier Häusern des Worpsweder Museumsverbundes sind die Hauptausstellungen der Photo Triennale zu sehen: Im Haus im Schluh treten unter dem Titel #EGO künstlerische Positionen in den Dialog\, die von der Suche nach sich selbst und der eigenen Position in der Gesellschaft erzählen. In der Worpsweder Kunsthalle macht sich die Ausstellung #FAKE auf die Suche nach Wahrhaftigkeit und zeigt die Perfektionierung der Täuschung. Mit #‘NEXT dreht sich im Barkenhoff alles um aktuelle sozioökologische Fragestellungen und die Herausforderungen der Zukunft. Die Ausstellung #RISK in der Großen Kunstschau verhandelt große politische und gesellschaftliche aktuelle Themen wie Revolutionen\, bewaffnete Konflikte\, Migration und Klimawandel. \nErgänzt werden die zentralen Ausstellungen durch die Sonderausstellungsreihe »RAW Plus«: In der Galerie Altes Rathaus werden Arbeiten von Studierenden und Absolventen der Ostkreuzschule für Fotografie Berlin (OKS) zu sehen sein. In den Räumen des Neuen Worpsweder Kunstvereins (NWWK) wird der Deutsche Jugendfotopreis 2022 gezeigt und eine Freiluftausstellung in der Ortsmitte würdigt den den Fotografen und RAW-Mitbegründer Rüdiger Lubricht. Und vom 18. März bis 2. April 2023 präsentiert »RAW PLUS« im Philine-Vogeler-Haus mit dem Kassel Dummy Award 2022 eine internatione Fotobuchausstellung.
URL:https://bvpa.org/event/raw-2023-photofestival-worpswede/
LOCATION:Worpswede\, Worpswede\, 27726\, Deutschland
CATEGORIES:Fotofestival,Fotografie
ATTACH;FMTTYPE=image/png:https://bvpa.org/wp-c0nt3nt5/up10ad5/2023/01/RAW2023_Logo_Schwarz_RGB_Horizontal_website.png
END:VEVENT
BEGIN:VEVENT
DTSTART;VALUE=DATE:20230428
DTEND;VALUE=DATE:20230508
DTSTAMP:20260424T135218
CREATED:20230103T095938Z
LAST-MODIFIED:20230103T095938Z
UID:69678-1682640000-1683503999@bvpa.org
SUMMARY:Darmstädter Tage der Fotografie
DESCRIPTION:Die drei Säulen des Festivals:\nHauptausstellung\nWettbewerb mit Merck-Preis\nSymposium\n  \nDie Hauptausstellung\nDas Jahresthema wird in einer Ausstellung im Designhaus Hessen konzentriert beleuchtet. Hierfür lädt das Kuratorenteam ca. 10 bis 15 international renommierter Künstler direkt ein. Es kommen kontroverse Positionen\, neueste Werke und unterschiedliche Genre fotografisch-künstlerischer Arbeiten zusammen. Die Gruppenausstellung bildet das zentrale Statement zum Festivalthema. \n  \nDer Wettbewerb\nSeit 2006 können sich Fotografen und Künstler direkt für eine Teilnahme am Festival bewerben. Es gibt weder stilistische noch technische Einschränkungen. Auch Herkunft und Alter der Bewerber sind nicht begrenzt. Es zählt lediglich die inhaltliche Nähe zum jeweiligen Jahresthema und eine qualitativ hochwertige Umsetzung der Arbeit. \nNach einer öffentlichen Ausschreibung reichen bis zu 400 Bewerber ihre Arbeiten ein. Diese werden in einer Jurysitzung ausführlich gesichtet. Am Ende wählt die Jury ca. 30 bis 35 Positionen aus\, die während des Festivals in Darmstädter Kunstinstitutionen\, Galerien\, Museen und Off-Spaces gezeigt werden. So bieten die Ausstellungen eine einzigartige und im Detail oft überraschende Zusammenschau dessen\, wie die Teilnehmer das jeweilige Thema interpretieren. \nDer Wettbewerb bietet vor allem jungen Fotografen und Künstlern die Möglichkeit\, bisher unveröffentlichte Arbeiten zum ersten Mal zu präsentieren. Oft werden diese in Darmstadt entdeckt und treten einen erfolgreichen Weiterweg an. Über 430 Künstler haben bisher ihre Arbeiten in Darmstadt präsentiert. \n  \nDer Merck-Preis\nSeit 2008 stiftet das Darmstädter Wissenschafts- und Technologieunternehmen Merck einen Preis für herausragende Positionen des Wettbewerbs. Während der Jurysitzung werden drei künstlerische Arbeiten ausgewählt\, die die Jurymitglieder besonders überzeugen. Erst am Tag der Eröffnung des Festivals und nach Beurteilung der Präsentation im Ausstellungsraum wird einer der drei Nominierten als Preisträger ermittelt und am Abend geehrt. \nWeitere Informationen zum Merck-Preis \n  \nDas Symposium\nIn den hochkarätig besetzten Vorträgen und Diskussionen geht es um inhaltliche Ansätze: Hier werden die oben genannten philosophischen\, künstlerischen und gesellschaftlichen Aspekte beleuchtet. Besonders die Frage des objektiven und subjektiven Sehens lässt sich dabei von unterschiedlichen Seiten diskutieren. \nNicht nur Fotokünstler kommen zu Wort\, auch Philosophen\, Autoren und Wissenschaftler stellen ihre Sicht der Dinge vor – so entsteht eine spannende Meinungsvielfalt\, die für anregende und bereichernde Beiträge sorgt. \n  \nDie Darmstädter Tage der Fotografie.\nAusstellungen – Symposium – Netzwerk.\n  \nEin Festival in der Stadt\nDie Ausstellungen werden in zentralen Kunstinstitutionen Darmstadts präsentiert. So sind das Museum Künstlerkolonie\, das Designhaus\, die Kunsthalle Darmstadt\, das Schlossmuseum und seit kurzem auch das Kunstforum der TU Darmstadt wichtige Kooperationspartner. Weitere öffentliche Räume\, wie z.B. die Centralstation und das Literaturhaus\, werden zum Ausstellungsort während des Festivals. Alle Orte liegen zentral auf der Mathildenhöhe und in der Innenstadt und können in kürzester Zeit erreicht werden. Der Shuttle-Service von SKODA AUTO bietet auch nicht Ortskundigen einen schnellen Weg zum Ziel. \nDer Fachbereich Gestaltung der h_da Hochschule Darmstadt mit seinem fotografischen Ausbildungsschwerpunkt ist seit Beginn an Festivalzentrum. Hier findet das Symposium statt\, stellen Studierende sowohl aus Darmstadt als auch internationaler Hochschulen aus\, werden Workshops durchgeführt. Das Foyer bietet Raum für Treffpunkte und Austausch. Die Hochschule unterstützt das Festival somit maßgeblich. \n  \nPhilosophie: Inhaltliche Konzentration auf ein Thema und zeitliche Konzentration auf ein Wochenende\nDas Konzept „Konzentration und Begegnung“ der Darmstädter Tage der Fotografie ist in der Region sowie auf nationaler Ebene einzigartig. Auch international findet sich kein vergleichbares\, in ähnlicher Weise aufgebautes Konzept. Konzentration bedeutet einerseits die strikte Ausrichtung auf ein Jahresthema\, zu dem die Ausstellungen und das Symposium zusammengestellt werden. Das Jahresthema ist der inhaltliche Rahmen und das zentrale Element des ganzen Festivals. Den Besuchern wird damit der visuelle und inhaltliche Zugang zu den einzelnen Ausstellungen und Redebeiträgen erleichtert. Die zeitliche Konzentration auf ein Wochenende ermöglicht es\, dass alle Künstler vor Ort sein können. Die Begegnungen und der direkte Austausch zwischen Besuchern und Künstlern machen den besonderen Charme dieses Festivals aus. \n  \nDie Initiatoren und Kuratoren\nBei der Auswahl der Künstler arbeiten die vier Initiatoren Rüdiger Dunker\, Albrecht Haag\, Alexandra Lechner und Gregor Schuster eng zusammen in einem Team mit der Kuratorin Ute Noll (on-photography.com →) und Prof. Dr. Kris Scholz\, Fotokünstler und Professor an der h_da Hochschule Darmstadt. Dieses feste Team ist seit 2006 verantwortlich für die Auswahl der teilnehmenden Künstler sowie der Redner auf dem Symposium und für die Vergabe des Merck-Preises.
URL:https://bvpa.org/event/darmstaedter-tage-der-fotografie/
LOCATION:Darmstadt\, Darmstadt\, Deutschland
CATEGORIES:Fotofestival,Fotografie
ATTACH;FMTTYPE=image/png:https://bvpa.org/wp-c0nt3nt5/up10ad5/2023/01/dtdf-logo.png
END:VEVENT
BEGIN:VEVENT
DTSTART;VALUE=DATE:20230506
DTEND;VALUE=DATE:20230515
DTSTAMP:20260424T135218
CREATED:20230227T114621Z
LAST-MODIFIED:20230227T114621Z
UID:70345-1683331200-1684108799@bvpa.org
SUMMARY:munich creative business week 2023
DESCRIPTION:Die munich creative business week (mcbw) ist Deutschlands größter Designevent und zugleich internationale Plattform der bayerischen Kreativ- und Designwirtschaft. Die mcbw wird von bayern design veranstaltet\, dem Kompetenzzentrum für Wissenstransfer und Kollaborationen rund um das Thema Design in Bayern. Es verbindet Themen\, Disziplinen\, Branchen und Perspektiven. Die nächste mcbw findet von 06.-14. Mai 2023 statt. Hier mehr erfahren.
URL:https://bvpa.org/event/munich-creative-business-week-2023/
LOCATION:München\, München \, Deutschland
CATEGORIES:Creative,Design,Digitalisierung
ATTACH;FMTTYPE=image/png:https://bvpa.org/wp-c0nt3nt5/up10ad5/2023/02/mcbw-2023_bd-Website.png
END:VEVENT
BEGIN:VEVENT
DTSTART;VALUE=DATE:20230510
DTEND;VALUE=DATE:20230513
DTSTAMP:20260424T135218
CREATED:20220905T140311Z
LAST-MODIFIED:20220905T140311Z
UID:54655-1683676800-1683935999@bvpa.org
SUMMARY:CEPIC 2023
DESCRIPTION:We are returning to the birth country of Photography and will be hosting our next Congress in Juan les Pins\, Antibes in the South of France – the nearest international airport being Nice. Congress will take place from the 10th-12th May 2023 – and for those with an interest in film\, it is just before the Cannes Film Festival.
URL:https://bvpa.org/event/cepic-2023/
LOCATION:Palais des Congrès d’Antibes\, 60 Chem. des Sables\, Antibes\, 06160\, France
CATEGORIES:Bildagenturen,Konferenz
ATTACH;FMTTYPE=image/jpeg:https://bvpa.org/wp-c0nt3nt5/up10ad5/2022/09/CapSurAntibe-600x437-1.jpg
END:VEVENT
BEGIN:VEVENT
DTSTART;VALUE=DATE:20230511
DTEND;VALUE=DATE:20230515
DTSTAMP:20260424T135218
CREATED:20230310T144133Z
LAST-MODIFIED:20230310T144133Z
UID:70517-1683763200-1684108799@bvpa.org
SUMMARY:Photo London
DESCRIPTION:Photo London brings together the world's leading galleries in a major international photography Fair at Somerset House. \n\n 
URL:https://bvpa.org/event/photo-london/
LOCATION:Somerset House\, Strand\, London\, WC2R 1LA\, United Kingdom
CATEGORIES:Fotofestival,Fotografie
ATTACH;FMTTYPE=image/jpeg:https://bvpa.org/wp-c0nt3nt5/up10ad5/2023/03/photolondon_2023.jpg
END:VEVENT
BEGIN:VEVENT
DTSTART;VALUE=DATE:20230512
DTEND;VALUE=DATE:20230522
DTSTAMP:20260424T135218
CREATED:20230103T100235Z
LAST-MODIFIED:20230103T100235Z
UID:69681-1683849600-1684713599@bvpa.org
SUMMARY:Photoszene-Festival
DESCRIPTION:Die Internationale Photoszene Köln dient der Förderung der künstlerischen Fotografie und hat das Ziel\, Köln als Standort für Fotografie dauerhaft zu stärken. Mehr als 30 Jahre lang fand das Photoszene-Festival stets parallel zur internationalen Fotomesse photokina statt. Mit deren Ende 2019 wechselte das Photoszene-Festival vom Herbst in den Frühling und etablierte sich als festes Festival-Event in der Stadt\, zu dem Museen\, Galerien und weitere namenhafte Institutionen aus dem Kölner Raum ihre Fotoausstellungen vorstellen. \nKöln ist als Standort für den künstlerischen und wissenschaftlichen Diskurs der Fotografie eine wichtige Zentrale. Die Einsatzbereiche des Mediums sind vielseitig. Die Universität forscht mit einem kunstgeschichtlichen Schwerpunkt an der Geschichte und Theorie der Fotografie\, die Kunsthochschule für Medien dehnt die Grenzen des bildgebenden Verfahrens und erweitert die Fotografie um intermediale Prozesse\, bedeutende Sammlungen der Museen sorgen für den langfristigen Erhalt und die Aufarbeitung des Mediums und erarbeiten kontinuierlich spannende Ausstellungskonzepte\, Ausstellungsräume der freien Szene bringen aktuelle Tendenzen ins Display\, wichtige Galerien vertreten international renommierte Künstler:innen\, Fotoarchive dokumentieren die diversen Einsatzbereiche und die Deutsche Gesellschaft für Photographie (DGPh) fördert die Fotografie seit vielen Jahrzehnten in ihren Sektionen. \nDie Internationale Photoszene Köln wurde seit den 1980er Jahren durch die Ideen und den Einsatz zahlreicher Personen aus der Museums- und Galerieszene\, der Politik und Wirtschaft vorangetrieben. Seit 2013/2014 sind es Heide Häusler\, Inga Schneider und Damian Zimmermann.
URL:https://bvpa.org/event/photoszene-festival-2/
LOCATION:Köln
CATEGORIES:Fotofestival,Fotografie,Networking
ATTACH;FMTTYPE=image/jpeg:https://bvpa.org/wp-c0nt3nt5/up10ad5/2023/01/photoszene2023.jpg
END:VEVENT
BEGIN:VEVENT
DTSTART;VALUE=DATE:20230513
DTEND;VALUE=DATE:20230515
DTSTAMP:20260424T135218
CREATED:20230103T100439Z
LAST-MODIFIED:20230103T100439Z
UID:69684-1683936000-1684108799@bvpa.org
SUMMARY:Photo+Adventure Messe-Festival
DESCRIPTION:
URL:https://bvpa.org/event/photoadventure-messe-festival/
LOCATION:Landschaftspark Duisburg-Nord\, Emscherstraße 71\, Dusiburg \, 47137\, Deutschland
CATEGORIES:Fotofestival,Fototechnik,Messe
ATTACH;FMTTYPE=image/jpeg:https://bvpa.org/wp-c0nt3nt5/up10ad5/2022/01/photo_adventure.jpg
END:VEVENT
BEGIN:VEVENT
DTSTART;TZID=Europe/Helsinki:20230525T120000
DTEND;TZID=Europe/Helsinki:20230525T200000
DTSTAMP:20260424T135218
CREATED:20230227T093442Z
LAST-MODIFIED:20230227T093442Z
UID:70338-1685016000-1685044800@bvpa.org
SUMMARY:UPdate Salon 2023
DESCRIPTION:UPdate is the longest running industry event of its kind connecting creative agencies and their clients in the real world. As part of the GoSee family we reach out to around 150\,000 readers; certainly the most exquisite audience in the industry.
URL:https://bvpa.org/event/update-salon-2023/
LOCATION:Telegraphenamt\, Monbijoustraße 11\, Berlin\, 10117\, Germany
CATEGORIES:Bildagenturen,Creative,Design,Fotografie,Networking
ATTACH;FMTTYPE=image/jpeg:https://bvpa.org/wp-c0nt3nt5/up10ad5/2023/02/bigupdate2023.jpg
END:VEVENT
END:VCALENDAR