BEGIN:VCALENDAR
VERSION:2.0
PRODID:-//BVPA - Bundesverband professioneller Bildanbieter - ECPv6.1.3//NONSGML v1.0//EN
CALSCALE:GREGORIAN
METHOD:PUBLISH
X-ORIGINAL-URL:https://bvpa.org
X-WR-CALDESC:Veranstaltungen für BVPA - Bundesverband professioneller Bildanbieter
REFRESH-INTERVAL;VALUE=DURATION:PT1H
X-Robots-Tag:noindex
X-PUBLISHED-TTL:PT1H
BEGIN:VTIMEZONE
TZID:Europe/Helsinki
BEGIN:DAYLIGHT
TZOFFSETFROM:+0200
TZOFFSETTO:+0300
TZNAME:EEST
DTSTART:20230326T010000
END:DAYLIGHT
BEGIN:STANDARD
TZOFFSETFROM:+0300
TZOFFSETTO:+0200
TZNAME:EET
DTSTART:20231029T010000
END:STANDARD
END:VTIMEZONE
BEGIN:VEVENT
DTSTART;VALUE=DATE:20230302
DTEND;VALUE=DATE:20230401
DTSTAMP:20260424T152028
CREATED:20230102T110320Z
LAST-MODIFIED:20230102T110320Z
UID:69649-1677715200-1680307199@bvpa.org
SUMMARY:EMOP Berlin
DESCRIPTION:EMOP Berlin is Germany’s largest photography festival. Since 2004\, the bi-annual event is a showcase for a wide range of exhibitions and events on historic and contemporary photography. The festival is organized by Kulturprojekte Berlin in collaboration with museums\, cultural institutions\, galleries\, embassies\, project spaces\, and photography schools in Berlin and Potsdam.
URL:https://bvpa.org/event/emop-berlin/
LOCATION:Berlin\, Berlin\, Deutschland
CATEGORIES:Fotofestival,Fotografie
ATTACH;FMTTYPE=image/jpeg:https://bvpa.org/wp-c0nt3nt5/up10ad5/2023/01/emop_berlin_2023.jpg
END:VEVENT
END:VCALENDAR