BEGIN:VCALENDAR
VERSION:2.0
PRODID:-//BVPA - Bundesverband professioneller Bildanbieter - ECPv6.1.3//NONSGML v1.0//EN
CALSCALE:GREGORIAN
METHOD:PUBLISH
X-ORIGINAL-URL:https://bvpa.org
X-WR-CALDESC:Veranstaltungen für BVPA - Bundesverband professioneller Bildanbieter
REFRESH-INTERVAL;VALUE=DURATION:PT1H
X-Robots-Tag:noindex
X-PUBLISHED-TTL:PT1H
BEGIN:VTIMEZONE
TZID:Europe/Helsinki
BEGIN:DAYLIGHT
TZOFFSETFROM:+0200
TZOFFSETTO:+0300
TZNAME:EEST
DTSTART:20230326T010000
END:DAYLIGHT
BEGIN:STANDARD
TZOFFSETFROM:+0300
TZOFFSETTO:+0200
TZNAME:EET
DTSTART:20231029T010000
END:STANDARD
END:VTIMEZONE
BEGIN:VEVENT
DTSTART;VALUE=DATE:20230208
DTEND;VALUE=DATE:20230213
DTSTAMP:20260420T152718
CREATED:20230103T094305Z
LAST-MODIFIED:20230103T094305Z
UID:69662-1675814400-1676246399@bvpa.org
SUMMARY:FOTOHAVEN HAMBURG
DESCRIPTION:Die Messe FOTOHAVEN HAMBURG ist die FreizeitWelt für Fotografen im Rahmen der oohh! - Die FreizeitWelten der Hamburg Messe. Zahlreiche Aussteller präsentieren auf der FOTOMESSE HAMBURG ihre aktuellen Produkte\, Dienstleistungen und Informationen für Reise-\, Hobby- und Profifotografie. Bekannte und namhafte Hersteller zeigen dabei aber nicht nur Neuheiten rund um Kameras\, Objektive\, Zubehör und Fotoprodukte\, sondern auch Infotainment rund ums Thema Fotografieren und beraten beim Kauf des richtigen Modells. Selbstverständlich können die neuesten Kameras und Objektive direkt vor Ort getestet werden. Begleitend zur Messe wird ein Rahmenprogramm mit Vorträgen und Workshops zum Thema Fotografie angeboten. Fotobegeisterte können sich über verschiedene Modelle informieren und erhalten wertvolle Tipps für die perfekten Bilder. Wer in den Messehallen keine eigene Ausrüstung dabei hat\, kann sich bei Ausstellern verschiedenste Kameras und Objektive ausleihen. Als Norddeutschlands größte Messe für Fotografen bietet die FOTOHAVEN HAMBURG alles rund um die Leidenschaft des Fotografierens.
URL:https://bvpa.org/event/fotohaven-hamburg-2/
LOCATION:Hamburg Messe\,      Messeplatz 1 \, Hamburg\, 20357\, Deutschland
CATEGORIES:Fotografie,Fototechnik,Messe
ATTACH;FMTTYPE=image/jpeg:https://bvpa.org/wp-c0nt3nt5/up10ad5/2020/01/logo_fotohaven@2x.jpg
END:VEVENT
END:VCALENDAR